BEGIN:VCALENDAR
VERSION:2.0
PRODID:https://github.com/derhansen/sf_event_mgt
METHOD:PUBLISH
BEGIN:VEVENT
UID:17221-382@museum.robotron.de
CLASS: PUBLIC
SUMMARY:Tag der offenen Tür (10 - 11 Uhr) - inkl. Führung
DESCRIPTION:Bitte registrieren Sie sich im unten stehenden Formular im Zeit
 fenster 10:00 - 11:00 Uhr für Ihren Museumsbesuch inkl. Führung.Geben Sie d
 azu bei "Firma/Institution" gern im Zweifelsfall "privat" an.\n\nGern könne
 n Sie auch bis zu fünf Begleitpersonen angeben.
LOCATION:Robotron Museum
DTSTAMP:20260421T070901Z
DTSTART:20260626T080000Z
DTEND:20260626T090000Z
END:VEVENT
END:VCALENDAR
