BEGIN:VCALENDAR
VERSION:2.0
PRODID:https://github.com/derhansen/sf_event_mgt
METHOD:PUBLISH
BEGIN:VEVENT
UID:17230-382@museum.robotron.de
CLASS: PUBLIC
SUMMARY:Tag der offenen Tür (13 - 14 Uhr) - ohne Führung
DESCRIPTION:Bitte registrieren Sie sich im unten stehenden Formular im Zeit
 fenster 13:00 - 14:00 Uhr für Ihren Museumsbesuch.Geben Sie dazu bei "Firma
 /Institution" gern im Zweifelsfall "privat" an.\n\nGern können Sie auch bis
  zu fünf Begleitpersonen angeben.
LOCATION:Robotron Museum
DTSTAMP:20260421T071146Z
DTSTART:20261113T120000Z
DTEND:20261113T130000Z
END:VEVENT
END:VCALENDAR
