BEGIN:VCALENDAR
VERSION:2.0
PRODID:https://github.com/derhansen/sf_event_mgt
METHOD:PUBLISH
BEGIN:VEVENT
UID:17232-382@museum.robotron.de
CLASS: PUBLIC
SUMMARY:Tag der offenen Tür (15 - 16 Uhr) - ohne Führung
DESCRIPTION:Bitte registrieren Sie sich im unten stehenden Formular im Zeit
 fenster 15:00 - 16:00 Uhr für Ihren Museumsbesuch.Geben Sie dazu bei "Firma
 /Institution" gern im Zweifelsfall "privat" an.\n\nGern können Sie auch bis
  zu fünf Begleitpersonen angeben.
LOCATION:Robotron Museum
DTSTAMP:20260421T071146Z
DTSTART:20261113T140000Z
DTEND:20261113T150000Z
END:VEVENT
END:VCALENDAR
